BEGIN:VCALENDAR
VERSION:2.0
PRODID:-//Glücksportal - ECPv6.15.20//NONSGML v1.0//EN
CALSCALE:GREGORIAN
METHOD:PUBLISH
X-WR-CALNAME:Glücksportal
X-ORIGINAL-URL:https://gluecksportal.ch
X-WR-CALDESC:Veranstaltungen für Glücksportal
REFRESH-INTERVAL;VALUE=DURATION:PT1H
X-Robots-Tag:noindex
X-PUBLISHED-TTL:PT1H
BEGIN:VTIMEZONE
TZID:Europe/Zurich
BEGIN:DAYLIGHT
TZOFFSETFROM:+0100
TZOFFSETTO:+0200
TZNAME:CEST
DTSTART:20240331T010000
END:DAYLIGHT
BEGIN:STANDARD
TZOFFSETFROM:+0200
TZOFFSETTO:+0100
TZNAME:CET
DTSTART:20241027T010000
END:STANDARD
BEGIN:DAYLIGHT
TZOFFSETFROM:+0100
TZOFFSETTO:+0200
TZNAME:CEST
DTSTART:20250330T010000
END:DAYLIGHT
BEGIN:STANDARD
TZOFFSETFROM:+0200
TZOFFSETTO:+0100
TZNAME:CET
DTSTART:20251026T010000
END:STANDARD
BEGIN:DAYLIGHT
TZOFFSETFROM:+0100
TZOFFSETTO:+0200
TZNAME:CEST
DTSTART:20260329T010000
END:DAYLIGHT
BEGIN:STANDARD
TZOFFSETFROM:+0200
TZOFFSETTO:+0100
TZNAME:CET
DTSTART:20261025T010000
END:STANDARD
END:VTIMEZONE
BEGIN:VEVENT
DTSTART;TZID=Europe/Zurich:20250817T100000
DTEND;TZID=Europe/Zurich:20250817T170000
DTSTAMP:20260425T123443
CREATED:20250701T075509Z
LAST-MODIFIED:20250701T075744Z
UID:5482-1755424800-1755450000@gluecksportal.ch
SUMMARY:Ausbildung Lemurianische Heil- und Verjüngungscodes
DESCRIPTION:In dieser für viele gesundheitlich herausfordernden Phase gibt es auf der Erde neue\, absolut einzigartige Möglichkeiten zur kraftvollen Stärkung unserer Organe und Körperzellen. \nLemuria hat vor langer Zeit auf diesem Planeten stattgefunden. Diese Erinnerungen von Gesundheit\, Kraft\, und Wohlbefinden sind immer noch in unserem System gespeichert und können wieder aktiviert werden. \nMit den lemurianischen Heil- und Verjüngungscodes wird jedes einzelne Organ wieder in seine Urkraft geführt. Du erfährst mehr Lebendigkeit\, eine Erinnerung an dein ursprüngliches gesundes Bewusstsein und eine Transformation zur Verjüngung und Vollkommenheit. Alle Frequenzen sind intelligent und wirken genau dort\, dort\, wo sie gebraucht werden. \nDiese Codes für die Organe können während einer Behandlung einzeln aktiviert werden. Es ist auch möglich\, alle Zellen in eine Heil- und Verjüngungsfrequenz zu bringen. \nAusbildung zum Lemurianischen Heil- und Verjüngungscode Berater\nDamit bist du berechtigt\, alle 36 Heilcodes bei anderen Menschen\, Tieren und Pflanzen anzuwenden.
URL:https://gluecksportal.ch/veranstaltungen/ausbildung-lemurianische-heil-und-verjuengungscodes/
LOCATION:Ratalma\, Käppelistrasse 24\, Olten\, 4600\, Schweiz
CATEGORIES:Grundkurs Lemurianische Heil- und Verjüngungscodes
ATTACH;FMTTYPE=image/jpeg:https://gluecksportal.ch/wp-content/uploads/2024/06/header_lemurianische_heil_und_verjuengungscodes-.jpg
ORGANIZER;CN="Marianne Anyalee Amsler":MAILTO:info@ratalma.ch
END:VEVENT
END:VCALENDAR