BEGIN:VCALENDAR
VERSION:2.0
PRODID:-//Glücksportal - ECPv6.15.20//NONSGML v1.0//EN
CALSCALE:GREGORIAN
METHOD:PUBLISH
X-WR-CALNAME:Glücksportal
X-ORIGINAL-URL:https://gluecksportal.ch
X-WR-CALDESC:Veranstaltungen für Glücksportal
REFRESH-INTERVAL;VALUE=DURATION:PT1H
X-Robots-Tag:noindex
X-PUBLISHED-TTL:PT1H
BEGIN:VTIMEZONE
TZID:Europe/Zurich
BEGIN:DAYLIGHT
TZOFFSETFROM:+0100
TZOFFSETTO:+0200
TZNAME:CEST
DTSTART:20250330T010000
END:DAYLIGHT
BEGIN:STANDARD
TZOFFSETFROM:+0200
TZOFFSETTO:+0100
TZNAME:CET
DTSTART:20251026T010000
END:STANDARD
BEGIN:DAYLIGHT
TZOFFSETFROM:+0100
TZOFFSETTO:+0200
TZNAME:CEST
DTSTART:20260329T010000
END:DAYLIGHT
BEGIN:STANDARD
TZOFFSETFROM:+0200
TZOFFSETTO:+0100
TZNAME:CET
DTSTART:20261025T010000
END:STANDARD
BEGIN:DAYLIGHT
TZOFFSETFROM:+0100
TZOFFSETTO:+0200
TZNAME:CEST
DTSTART:20270328T010000
END:DAYLIGHT
BEGIN:STANDARD
TZOFFSETFROM:+0200
TZOFFSETTO:+0100
TZNAME:CET
DTSTART:20271031T010000
END:STANDARD
END:VTIMEZONE
BEGIN:VEVENT
DTSTART;TZID=Europe/Zurich:20260307T130000
DTEND;TZID=Europe/Zurich:20260307T163000
DTSTAMP:20260424T165034
CREATED:20260105T090913Z
LAST-MODIFIED:20260105T090913Z
UID:5548-1772888400-1772901000@gluecksportal.ch
SUMMARY:Begegnung mit der Scheibenfreiheit
DESCRIPTION:Immer mehr Menschen erkennen\, wie tiefgreifend die Manipulationen durch Politik\, Medien und Pharmaindustrie über lange Zeit waren und noch immer sind. Diese Manipulationen werden auf eine Scheibe im Körper gelegt\, und beeinflussen so dein Leben. \nDie Scheibenfreiheit ist eine sehr grosse Befreiung auf allen Ebenen. Die Scheibe wird vollständig gelöscht und dematerialisiert\, so dass keine Manipulationen von aussen mehr draufgelegt werden können. Mit der Scheibenfreiheit kannst du dein Leben mit dir selbst füllen\, mit deiner eigenen Lebendigkeit und Manifestation\, mit all dem\, was du erfahren möchtest. Es hilft dir aus deiner Vergangenheit auszusteigen und ins Jetzt zu kommen. Du kannst lernen wieder frei zu sein mit jedem Gedanken\, in jeder Zelle.
URL:https://gluecksportal.ch/veranstaltungen/begegnung-mit-der-scheibenfreiheit-5/
LOCATION:Manuya – Zentrum der inneren Wirklichkeit\, Via principala 34\, Surcasti\, 7115
CATEGORIES:Begegnung mit der Scheibenfreiheit
ATTACH;FMTTYPE=image/jpeg:https://gluecksportal.ch/wp-content/uploads/2024/06/header_begegnung_mit_der_scheibenfreiheit.jpg
ORGANIZER;CN="Sonja Varana Vinzens":MAILTO:sonjavarana@gmx.ch
END:VEVENT
BEGIN:VEVENT
DTSTART;TZID=Europe/Zurich:20260314T090000
DTEND;TZID=Europe/Zurich:20260315T170000
DTSTAMP:20260424T165034
CREATED:20260112T223810Z
LAST-MODIFIED:20260112T223810Z
UID:5623-1773478800-1773594000@gluecksportal.ch
SUMMARY:Ausbildung zum Zeitlinien Berater 1. Modul 1-144
DESCRIPTION:Zeitlinien sind Energie-Tore und Bewusstseins-Linien\, in denen die Zellen wieder die Information der göttlichen Ordnung bekommen. Kranke oder auch veränderte\, verhärtete Zellen\, geben dem Körper oft Signale\, dass der Mensch etwas anderes Leben soll als das\, was er gerade lebt. Die Zeitlinien gehen direkt an dieses Signal und bringen die Informationen der göttlichen Ordnung wieder dorthin. Dadurch kann die Voraussetzung für eine nachhaltige\, körperliche und geistige Heilung geschaffen werden. Die Zeitlinien sind absolute göttliche Perfektion. \nDie Zeitlinien können auf den Körper\, auf alle Lebewesen\, Plätze und Situationen manifestiert werden und bleiben damit so lange in Verbindung\, wie es gebraucht wird. Veränderungen und Heilung geschehen jenseits der Zeit. \n\nZeitlinien sind Lichttore für die Zellen. Seele und Körper können sich wieder treffen.\nZeitlinien sind Transformationslinien. Die Dinge lösen sich auf allen Ebenen.\nZeitlinien bringen in die eigene Verantwortung. Jede Zelle wird mit den Zeitlinien gefüllt im Körper.\nDie Zeitlinien helfen uns\, unser göttliches Bewusstsein zu manifestieren und mit uns selbst in der Einheit und der Freude zu leben.\nZeitlinien bringen uns in die Ehrlichkeit mit allem. Die Zweifel gehen und lassen die Freude einfließen.\nZeitlinien öffnen den Raum\, um in das Vertrauen zu gehen\, öffnen den Augenblick und die Zukunft. Sie geben Kraft.
URL:https://gluecksportal.ch/veranstaltungen/ausbildung-zum-zeitlinien-berater-1-modul-1-144-3/
LOCATION:Die Heilpraxis\, Hauptstrasse 72\, Escholzmatt\, LU\, 6183
CATEGORIES:Zeitlinien
ATTACH;FMTTYPE=image/jpeg:https://gluecksportal.ch/wp-content/uploads/2023/10/Angebot-Zeitlinien-oeffnen.jpg
ORGANIZER;CN="Marcel Vulkano Buchle":MAILTO:die-heilpraxis@gmx.ch
END:VEVENT
BEGIN:VEVENT
DTSTART;TZID=Europe/Zurich:20260321T100000
DTEND;TZID=Europe/Zurich:20260321T170000
DTSTAMP:20260424T165034
CREATED:20260112T213752Z
LAST-MODIFIED:20260112T214241Z
UID:5598-1774087200-1774112400@gluecksportal.ch
SUMMARY:Aktivierung deiner 5. Herzkammer
DESCRIPTION:Das wahrhaftige und wirkliche Wissen über die 5. Herzkammer und ihrer Aktivierung. \nDurch den Blutkreislauf ist das Herz über alles\, was im Körper geschieht\, über jedes Organ\, über jede einzelne Zelle und über emotionale Themen informiert. Diese Botschaften erhält das Herz über die 5. Herzkammer\, die bei allen Menschen und Tieren vorhanden ist. \nDie 5. Herzkammer hat einen eigenen Kreislauf\, eine eigene Hormonversorgung\, und funktioniert somit unabhängig\, um in jedem Atemzug die beste Selbstheilung für den gesamten Körper aktivieren zu können. Diese Kammer ist der Sitz der Seele\, des göttlichen Funkens\, und auch der Speicherplatz für die Spiegelung der besten Gesundheit. \nZurzeit führt der Körper jedoch immer weniger den Auftrag der Selbstregulierung über die 5. Herzkammer durch verschiedenste Einflüsse und Störungen aus. \nMit der Aktivierung der 5. Herzkammer kann ihr ursprünglicher Auftrag wieder hergestellt und die Selbstheilungskräfte gestärkt werden. \nDas Herz kann den Transport und die Versorgung der Organe\, der Zellen\, wieder kraftvoller aktivieren. Auch der Herzmuskel kann sich entspannen und regenerieren. Die Seele kann wieder viel mehr durch den Körper wirken. Das Chaos wird beseitig und die lebendige Schöpferkraft kann kommen. Ein Gefühl von Frieden und erfülltem Leben entsteht. \nZusätzliche Aktivierung \n\nEine fremde Silberschnur im Körper löschen\nUm die Verbindung über die 5. Herzkammer zwischen Eltern und Kind nach der Geburt zu erhalten\nDass die Splitter von körperfremden Dodekaeder wieder aus dem Körper gezogen werden
URL:https://gluecksportal.ch/veranstaltungen/aktivierung-deiner-5-herzkammer/
LOCATION:Christine Jamanka Koller\, Aumattstrasse 64\, Reinach\, 4153\, Switzerland
CATEGORIES:Die 5. Herzkammer
ATTACH;FMTTYPE=image/jpeg:https://gluecksportal.ch/wp-content/uploads/2026/01/5-Herzkammer-Quadratisch.jpg
ORGANIZER;CN="Christine Jamanka Koller":MAILTO:ckojahr2017@gmail.com
END:VEVENT
BEGIN:VEVENT
DTSTART;TZID=Europe/Zurich:20260321T100000
DTEND;TZID=Europe/Zurich:20260321T173000
DTSTAMP:20260424T165034
CREATED:20260105T091834Z
LAST-MODIFIED:20260105T091834Z
UID:5550-1774087200-1774114200@gluecksportal.ch
SUMMARY:Einweihung in die Goldene kristalline DNA
DESCRIPTION:Die Goldene Kristalline DNA (GKDNA) bietet dir die Möglichkeit\, ein ganz tiefes göttliches Potenzial mit allem zu erleben und zu feiern. Durch die Aktivierung deiner GKDNA in deiner Epiphyse\, entsteht ein tiefes wahrhaftiges Miteinander mit deinem Körper und deiner Seele. Die kraftvolle GKDNA legt sich über deine Herkunftsfamilien-DNA und es entsteht ein grosser Prozess der Verjüngung in dir. Du erlebst Dich viel freier und entdeckst ein Gefühl von Zeitlosigkeit. Tiefer Frieden und Visionen entstehen. \nWenn sich etwas Tiefsitzendes von den Herkunftsfamilien löst\, werden natürlich noch einige Prozesse in Gang kommen\, doch es wird viel leichter\, durch den Prozess zu gehen. \nAlles in deinem Körper hat eine göttliche Frequenz. In jedem Organ\, in jedem Muskel und in jeder Zelle ist die göttliche Information der Liebe gespeichert. Wenn du auf die Erde kommst\, bist du dir dessen noch bewusst. Durch sehr prägende Erfahrungen oder Erlebnisse kannst du dieses Bewusstsein einfach vergessen und du lebst dann ein Leben\, das nicht deinem Seelenbewusstsein entspricht. Diese Einweihung in die GKDNA bringt dich mit deinem Seelenbewusstsein wieder tief in Kontakt und Du beginnst eine tiefe Reise in Geborgenheit mit dir selbst und mit dem Planeten Erde. \nDie GKDNA ist ein göttliches Manifest\, das dir jetzt wieder geschenkt wird\, damit die Genialität deines wundervollen Lebens dich wieder erreicht. \nDiese Einweihung in die GKDNA bringt dich \n\n\n\nIn deine Seelenweite\nIn das All-Bewusstsein\n\n\n\n\nIn die Verbindung mit deinem wundervollen Körper\nIn die Seelenmanifestation deines Lebens\nIn die wundervolle DNA-Schwingung der Verjüngung\n\nEs werden drei Frequenz-Übertragungen über die Zirbeldrüse aktiviert\, um dadurch die goldene kristalline DNA mehr und mehr einfliessen zu lassen.\nDie Aktivierung der goldenen kristallinen DNA ist für Menschen\, Tiere\, Pflanzen\, Plätze\, Gebäude und für Situationen möglich
URL:https://gluecksportal.ch/veranstaltungen/einweihung-in-die-goldene-kristalline-dna-2/
LOCATION:Manuya – Zentrum der inneren Wirklichkeit\, Via principala 34\, Surcasti\, 7115
CATEGORIES:Goldene kristalline DNA
ATTACH;FMTTYPE=image/jpeg:https://gluecksportal.ch/wp-content/uploads/2023/10/Angebot-Einweihung-in-die-Goldene-Kristalline-DNA.jpg
ORGANIZER;CN="Sonja Varana Vinzens":MAILTO:sonjavarana@gmx.ch
END:VEVENT
END:VCALENDAR