BEGIN:VCALENDAR
VERSION:2.0
PRODID:-//Glücksportal - ECPv6.15.20//NONSGML v1.0//EN
CALSCALE:GREGORIAN
METHOD:PUBLISH
X-WR-CALNAME:Glücksportal
X-ORIGINAL-URL:https://gluecksportal.ch
X-WR-CALDESC:Veranstaltungen für Glücksportal
REFRESH-INTERVAL;VALUE=DURATION:PT1H
X-Robots-Tag:noindex
X-PUBLISHED-TTL:PT1H
BEGIN:VTIMEZONE
TZID:Europe/Zurich
BEGIN:DAYLIGHT
TZOFFSETFROM:+0100
TZOFFSETTO:+0200
TZNAME:CEST
DTSTART:20250330T010000
END:DAYLIGHT
BEGIN:STANDARD
TZOFFSETFROM:+0200
TZOFFSETTO:+0100
TZNAME:CET
DTSTART:20251026T010000
END:STANDARD
BEGIN:DAYLIGHT
TZOFFSETFROM:+0100
TZOFFSETTO:+0200
TZNAME:CEST
DTSTART:20260329T010000
END:DAYLIGHT
BEGIN:STANDARD
TZOFFSETFROM:+0200
TZOFFSETTO:+0100
TZNAME:CET
DTSTART:20261025T010000
END:STANDARD
BEGIN:DAYLIGHT
TZOFFSETFROM:+0100
TZOFFSETTO:+0200
TZNAME:CEST
DTSTART:20270328T010000
END:DAYLIGHT
BEGIN:STANDARD
TZOFFSETFROM:+0200
TZOFFSETTO:+0100
TZNAME:CET
DTSTART:20271031T010000
END:STANDARD
END:VTIMEZONE
BEGIN:VEVENT
DTSTART;TZID=Europe/Zurich:20260515T100000
DTEND;TZID=Europe/Zurich:20260515T163000
DTSTAMP:20260424T142331
CREATED:20260317T150549Z
LAST-MODIFIED:20260317T150803Z
UID:5660-1778839200-1778862600@gluecksportal.ch
SUMMARY:Herzens-Lichtkörperprozess 1-12 Chakra
DESCRIPTION:Der Herzens-Lichtkörperprozess ist eine tiefgreifende spirituelle Einweihung\, die das Leben grundlegend verändern kann. Durch die Reinigung und Vertikalisierung der Chakren sowie gleichzeitiger Aktivierung der ersten 36 DNA-Stränge\, erfährst du dich und das Leben ganz neu. \nAus Liebe zum Leben und zu den Menschen erschafft die unsichtbare Welt während der Herzens-Lichtkörperprozesse eine völlig neue Struktur der Energiekörper\, die noch Monate nachwirken kann. Und das geschieht bei jedem Menschen unterschiedlich\, da jede Seele ihr eigenes Tempo braucht. Unwahre\, hinderliche Muster\, Rollen und Anhaftungen erlösen sich in dir und dadurch auch in deinem Familiensystem. Ein neuer\, klarer Lebensweg kristallisiert sich heraus\, auf dem es mehr und mehr möglich ist\, die Essenz deines eigenen Seins kraftvoll\, frei und glücklich zu leben. Sei bereit für die Veränderungen\, die dadurch in deinem Körper und deinem Leben eintreten können. Du erfährst wieder das Vertrauen und die große Kraft\, dass du auf diesem Planeten Erde richtig bist. \nDer Weg des Herzens-Lichtkörperprozesses ist eine Einladung dich selbst wieder zu lieben\, denn «so wie du dich selbst liebst\, kannst du andere lieben». \nDie befreienden Auswirkungen dieses wundervollen Herzens-Lichtkörperprozesses reichen insgesamt sieben Generationen in die Vergangenheit und vierzehn Generationen in die Zukunft. Diese weitreichenden Auswirkungen für das Leben der Menschen auf Mutter Erde sind mit dem Verstand nicht zu erfassen. Doch das Herz weiss um die Dinge\, und kann sich in diesen wirklichen Beginn des «goldenen Zeitalters» gut hineinfühlen. \nDie einzelnen Seminare des Herzens-Lichtkörperprozesses sind in sich abgeschlossene Energie-Einheiten\, die eine bestimmte Anzahl von Chakren umfasst. Erst wenn alle Chakren einer Energie-Einheit wieder aktiviert sind\, ist diese Einheit für immer stabil (z.B. 1. – 12. Chakra). \n\nDauer: 3 Tage\nTag 1: 15. Mai 2026\nTag 2-3: Für die zwei weiteren Tage werden die Termine gemeinsam vereinbart
URL:https://gluecksportal.ch/veranstaltungen/herzens-lichtkoerperprozess-1-12-chakra/
LOCATION:Manuya – Zentrum der inneren Wirklichkeit\, Via principala 34\, Surcasti\, 7115
CATEGORIES:Herzens-Lichtkörperprozess
ATTACH;FMTTYPE=image/jpeg:https://gluecksportal.ch/wp-content/uploads/2024/06/header_herzens-lichtkoerperprozess.jpg
ORGANIZER;CN="Sonja Varana Vinzens":MAILTO:sonjavarana@gmx.ch
END:VEVENT
END:VCALENDAR