BEGIN:VCALENDAR
VERSION:2.0
PRODID:-//Glücksportal - ECPv6.15.20//NONSGML v1.0//EN
CALSCALE:GREGORIAN
METHOD:PUBLISH
X-WR-CALNAME:Glücksportal
X-ORIGINAL-URL:https://gluecksportal.ch
X-WR-CALDESC:Veranstaltungen für Glücksportal
REFRESH-INTERVAL;VALUE=DURATION:PT1H
X-Robots-Tag:noindex
X-PUBLISHED-TTL:PT1H
BEGIN:VTIMEZONE
TZID:Europe/Zurich
BEGIN:DAYLIGHT
TZOFFSETFROM:+0100
TZOFFSETTO:+0200
TZNAME:CEST
DTSTART:20250330T010000
END:DAYLIGHT
BEGIN:STANDARD
TZOFFSETFROM:+0200
TZOFFSETTO:+0100
TZNAME:CET
DTSTART:20251026T010000
END:STANDARD
BEGIN:DAYLIGHT
TZOFFSETFROM:+0100
TZOFFSETTO:+0200
TZNAME:CEST
DTSTART:20260329T010000
END:DAYLIGHT
BEGIN:STANDARD
TZOFFSETFROM:+0200
TZOFFSETTO:+0100
TZNAME:CET
DTSTART:20261025T010000
END:STANDARD
BEGIN:DAYLIGHT
TZOFFSETFROM:+0100
TZOFFSETTO:+0200
TZNAME:CEST
DTSTART:20270328T010000
END:DAYLIGHT
BEGIN:STANDARD
TZOFFSETFROM:+0200
TZOFFSETTO:+0100
TZNAME:CET
DTSTART:20271031T010000
END:STANDARD
END:VTIMEZONE
BEGIN:VEVENT
DTSTART;TZID=Europe/Zurich:20260517T100000
DTEND;TZID=Europe/Zurich:20260517T170000
DTSTAMP:20260424T135444
CREATED:20260317T145309Z
LAST-MODIFIED:20260317T145309Z
UID:5651-1779012000-1779037200@gluecksportal.ch
SUMMARY:Einweihung in die Goldene kristalline DNA
DESCRIPTION:Die Goldene Kristalline DNA (GKDNA) bietet dir die Möglichkeit\, ein ganz tiefes göttliches Potenzial mit allem zu erleben und zu feiern. Durch die Aktivierung deiner GKDNA in deiner Epiphyse\, entsteht ein tiefes wahrhaftiges Miteinander mit deinem Körper und deiner Seele. Die kraftvolle GKDNA legt sich über deine Herkunftsfamilien-DNA und es entsteht ein grosser Prozess der Verjüngung in dir. Du erlebst Dich viel freier und entdeckst ein Gefühl von Zeitlosigkeit. Tiefer Frieden und Visionen entstehen. \nWenn sich etwas Tiefsitzendes von den Herkunftsfamilien löst\, werden natürlich noch einige Prozesse in Gang kommen\, doch es wird viel leichter\, durch den Prozess zu gehen. \nAlles in deinem Körper hat eine göttliche Frequenz. In jedem Organ\, in jedem Muskel und in jeder Zelle ist die göttliche Information der Liebe gespeichert. Wenn du auf die Erde kommst\, bist du dir dessen noch bewusst. Durch sehr prägende Erfahrungen oder Erlebnisse kannst du dieses Bewusstsein einfach vergessen und du lebst dann ein Leben\, das nicht deinem Seelenbewusstsein entspricht. Diese Einweihung in die GKDNA bringt dich mit deinem Seelenbewusstsein wieder tief in Kontakt und Du beginnst eine tiefe Reise in Geborgenheit mit dir selbst und mit dem Planeten Erde. \nDie GKDNA ist ein göttliches Manifest\, das dir jetzt wieder geschenkt wird\, damit die Genialität deines wundervollen Lebens dich wieder erreicht. \nDiese Einweihung in die GKDNA bringt dich \n\n\n\nIn deine Seelenweite\nIn das All-Bewusstsein\n\n\n\n\nIn die Verbindung mit deinem wundervollen Körper\nIn die Seelenmanifestation deines Lebens\nIn die wundervolle DNA-Schwingung der Verjüngung\n\nEs werden drei Frequenz-Übertragungen über die Zirbeldrüse aktiviert\, um dadurch die goldene kristalline DNA mehr und mehr einfliessen zu lassen.\nDie Aktivierung der goldenen kristallinen DNA ist für Menschen\, Tiere\, Pflanzen\, Plätze\, Gebäude und für Situationen möglich
URL:https://gluecksportal.ch/veranstaltungen/einweihung-in-die-goldene-kristalline-dna-3/
LOCATION:Ratalma\, Käppelistrasse 24\, Olten\, 4600\, Schweiz
CATEGORIES:Goldene kristalline DNA
ATTACH;FMTTYPE=image/jpeg:https://gluecksportal.ch/wp-content/uploads/2023/10/Angebot-Einweihung-in-die-Goldene-Kristalline-DNA.jpg
ORGANIZER;CN="Marianne Anyalee Amsler":MAILTO:info@ratalma.ch
END:VEVENT
END:VCALENDAR