BEGIN:VCALENDAR
VERSION:2.0
PRODID:-//Glücksportal - ECPv6.15.20//NONSGML v1.0//EN
CALSCALE:GREGORIAN
METHOD:PUBLISH
X-WR-CALNAME:Glücksportal
X-ORIGINAL-URL:https://gluecksportal.ch
X-WR-CALDESC:Veranstaltungen für Glücksportal
REFRESH-INTERVAL;VALUE=DURATION:PT1H
X-Robots-Tag:noindex
X-PUBLISHED-TTL:PT1H
BEGIN:VTIMEZONE
TZID:Europe/Zurich
BEGIN:DAYLIGHT
TZOFFSETFROM:+0100
TZOFFSETTO:+0200
TZNAME:CEST
DTSTART:20250330T010000
END:DAYLIGHT
BEGIN:STANDARD
TZOFFSETFROM:+0200
TZOFFSETTO:+0100
TZNAME:CET
DTSTART:20251026T010000
END:STANDARD
BEGIN:DAYLIGHT
TZOFFSETFROM:+0100
TZOFFSETTO:+0200
TZNAME:CEST
DTSTART:20260329T010000
END:DAYLIGHT
BEGIN:STANDARD
TZOFFSETFROM:+0200
TZOFFSETTO:+0100
TZNAME:CET
DTSTART:20261025T010000
END:STANDARD
BEGIN:DAYLIGHT
TZOFFSETFROM:+0100
TZOFFSETTO:+0200
TZNAME:CEST
DTSTART:20270328T010000
END:DAYLIGHT
BEGIN:STANDARD
TZOFFSETFROM:+0200
TZOFFSETTO:+0100
TZNAME:CET
DTSTART:20271031T010000
END:STANDARD
END:VTIMEZONE
BEGIN:VEVENT
DTSTART;TZID=Europe/Zurich:20260516T100000
DTEND;TZID=Europe/Zurich:20260516T150000
DTSTAMP:20260424T121114
CREATED:20260317T151742Z
LAST-MODIFIED:20260317T151920Z
UID:5664-1778925600-1778943600@gluecksportal.ch
SUMMARY:Einweihung in die 7 globalen Schöpfungsgesetze
DESCRIPTION:Die 7 Schöpfungsgesetze sind zeitlos\, da die Schöpfung immer stattfindet\, in jedem Atemzug\, auf allen Planeten und in allen Universen. \nDie 7 Schöpfungsgesetze sind die reine Liebe\, mit der alles verbunden ist\, sie ist die grösste Kraft\, die alles erschaffen hat. \nDie Seelenfrequenz und die DNA sind an diese Schöpfungsgesetze gebunden und diese Schöpfung ist nie vergänglich. Die Seele\, die DNA und die Zellen waren mit dieser Zeitlosigkeit verbunden\, bevor sie inspiriert wurden\, auf die Zeit zu hören. \nDie sieben Schöpfungsgesetze sind: \n\nSchöpfungsgesetz: Am Anfang war die Liebe\nSchöpfungsgesetz: Alles ist Bewegung alles ist Schwingung\nSchöpfungsgesetz: Die unsichtbare Form der Schwingung\nSchöpfungsgesetz: Aus der Unsichtbarkeit in die Sichtbarkeit\nSchöpfungsgesetz: Der göttliche Gleichklang\nSchöpfungsgesetz: Die göttliche Veredelung\nSchöpfungsgesetz: Die grenzenlose kreative göttliche Fülle\n\nEs gibt drei Möglichkeiten der Einweihungen: \n\nAktivierung in die 7 globalen Schöpfungsgesetze\nAktivierung der 7 Schöpfungsgesetze in den Gehirnregionen\nAktivierung in die 7 Schöpfungsgesetze mit den Erzengeln\n\nAktivierung der Pons: Zusätzlich gibt es noch die Möglichkeit der Aktivierung der Pons. Sie ist dafür zuständig\, die Informationen an die anderen Gehirnareale weiter zu leiten. Die Pons kann durch verschiedene Einflüsse beschädigt werden. \nWenn ein Mensch eingeweiht wird\, dann sind automatisch alle seine Haustiere und Pflanzen mit eingeweiht. Ebenso sind die Menschen in der direkten Ahnenlinie eine Generation zurück (Eltern) und eine Generation nach vorne (Kinder\, Adoptivkinder) mit eingeweiht. \n16. Mai 2026 10:00 bis 15:00 Uhr: Einweihung in die 7 globalen Schöpfungsgesetze
URL:https://gluecksportal.ch/veranstaltungen/einweihung-in-die-7-globalen-schoepfungsgesetze-3/
LOCATION:Christine Jamanka Koller\, Aumattstrasse 64\, Reinach\, 4153\, Switzerland
CATEGORIES:Die 7 Schöpfungsgesetze
ATTACH;FMTTYPE=image/jpeg:https://gluecksportal.ch/wp-content/uploads/2024/06/header_die_7_schoepfungsgesetze.jpg
ORGANIZER;CN="Christine Jamanka Koller":MAILTO:ckojahr2017@gmail.com
END:VEVENT
END:VCALENDAR