BEGIN:VCALENDAR
VERSION:2.0
PRODID:-//Glücksportal - ECPv6.15.20//NONSGML v1.0//EN
CALSCALE:GREGORIAN
METHOD:PUBLISH
X-WR-CALNAME:Glücksportal
X-ORIGINAL-URL:https://gluecksportal.ch
X-WR-CALDESC:Veranstaltungen für Glücksportal
REFRESH-INTERVAL;VALUE=DURATION:PT1H
X-Robots-Tag:noindex
X-PUBLISHED-TTL:PT1H
BEGIN:VTIMEZONE
TZID:Europe/Zurich
BEGIN:DAYLIGHT
TZOFFSETFROM:+0100
TZOFFSETTO:+0200
TZNAME:CEST
DTSTART:20250330T010000
END:DAYLIGHT
BEGIN:STANDARD
TZOFFSETFROM:+0200
TZOFFSETTO:+0100
TZNAME:CET
DTSTART:20251026T010000
END:STANDARD
BEGIN:DAYLIGHT
TZOFFSETFROM:+0100
TZOFFSETTO:+0200
TZNAME:CEST
DTSTART:20260329T010000
END:DAYLIGHT
BEGIN:STANDARD
TZOFFSETFROM:+0200
TZOFFSETTO:+0100
TZNAME:CET
DTSTART:20261025T010000
END:STANDARD
BEGIN:DAYLIGHT
TZOFFSETFROM:+0100
TZOFFSETTO:+0200
TZNAME:CEST
DTSTART:20270328T010000
END:DAYLIGHT
BEGIN:STANDARD
TZOFFSETFROM:+0200
TZOFFSETTO:+0100
TZNAME:CET
DTSTART:20271031T010000
END:STANDARD
END:VTIMEZONE
BEGIN:VEVENT
DTSTART;TZID=Europe/Zurich:20260621T100000
DTEND;TZID=Europe/Zurich:20260621T170000
DTSTAMP:20260424T151457
CREATED:20260317T145512Z
LAST-MODIFIED:20260317T145512Z
UID:5653-1782036000-1782061200@gluecksportal.ch
SUMMARY:Eigene Akasha Chronik
DESCRIPTION:Die Akasha Chronik ist dein Lebensbuch\, das du für dein Leben geschrieben hast. Je nach Mut und Präsenz in deinem Leben ist dieses Lebensbuch mal weiter oder weniger weit geöffnet. Es gibt Frequenzen in den unterschiedlichsten Dingen und Ereignissen\, durch die dein Lebensbuch im Laufe deines Lebens immer mehr geschlossen wurden. Das kann dazu geführt haben\, dass du dich eingeengt fühlst und deine eigenen Träume und Visionen nicht mehr spüren kannst\, wodurch du mehr und mehr ganz unbewusst durch anderes gelebt wirst. \nDas Ziel ist es\, dein Lebensbuch ganz zu öffnen und dich wieder mit deinem Bewusstsein mit deiner eigenen Akasha Chronik zu verbinden. Die Verbindung zu deiner eigenen Akasha Chronik wird in diesem Seminar wieder geöffnet. Mit dieser Erfahrung kannst du deine Seelenqualität wieder vollkommen leben und erfahren und somit viel mehr Leichtigkeit auf allen Ebenen spüren. Es bringt dir die Kraft\, den Frieden und die Leichtigkeit ohne Angst und Kompromisse zu leben.
URL:https://gluecksportal.ch/veranstaltungen/eigene-akasha-chronik-2/
LOCATION:Ratalma\, Käppelistrasse 24\, Olten\, 4600\, Schweiz
CATEGORIES:Eigene Akasha-Chronik
ATTACH;FMTTYPE=image/jpeg:https://gluecksportal.ch/wp-content/uploads/2023/10/Angebot-Einweihung-in-die-eigene-Akasha-Chronik.jpg
ORGANIZER;CN="Marianne Anyalee Amsler":MAILTO:info@ratalma.ch
END:VEVENT
END:VCALENDAR