BEGIN:VCALENDAR
VERSION:2.0
PRODID:-//Glücksportal - ECPv6.15.20//NONSGML v1.0//EN
CALSCALE:GREGORIAN
METHOD:PUBLISH
X-WR-CALNAME:Glücksportal
X-ORIGINAL-URL:https://gluecksportal.ch
X-WR-CALDESC:Veranstaltungen für Glücksportal
REFRESH-INTERVAL;VALUE=DURATION:PT1H
X-Robots-Tag:noindex
X-PUBLISHED-TTL:PT1H
BEGIN:VTIMEZONE
TZID:Europe/Zurich
BEGIN:DAYLIGHT
TZOFFSETFROM:+0100
TZOFFSETTO:+0200
TZNAME:CEST
DTSTART:20250330T010000
END:DAYLIGHT
BEGIN:STANDARD
TZOFFSETFROM:+0200
TZOFFSETTO:+0100
TZNAME:CET
DTSTART:20251026T010000
END:STANDARD
BEGIN:DAYLIGHT
TZOFFSETFROM:+0100
TZOFFSETTO:+0200
TZNAME:CEST
DTSTART:20260329T010000
END:DAYLIGHT
BEGIN:STANDARD
TZOFFSETFROM:+0200
TZOFFSETTO:+0100
TZNAME:CET
DTSTART:20261025T010000
END:STANDARD
BEGIN:DAYLIGHT
TZOFFSETFROM:+0100
TZOFFSETTO:+0200
TZNAME:CEST
DTSTART:20270328T010000
END:DAYLIGHT
BEGIN:STANDARD
TZOFFSETFROM:+0200
TZOFFSETTO:+0100
TZNAME:CET
DTSTART:20271031T010000
END:STANDARD
END:VTIMEZONE
BEGIN:VEVENT
DTSTART;TZID=Europe/Zurich:20260614T100000
DTEND;TZID=Europe/Zurich:20260614T170000
DTSTAMP:20260424T151047
CREATED:20260317T144000Z
LAST-MODIFIED:20260317T144942Z
UID:5646-1781431200-1781456400@gluecksportal.ch
SUMMARY:21 Aminosäuren Berater
DESCRIPTION:Die Aminosäuren sind die Bausteine des Lebens. Sie werden für jede Aktion des Körpers gebraucht. Überall bauen sie die Zellen auf\, wirken im Erbgut und lassen die Strukturen in unserem Körper entstehen. \nWenn die Aminosäuren nicht genügend selber produziert werden\, oder durch negative Erfahrungen und Ereignisse fehlgeleitet sind\, können sie die Organe schwächen\, Schmerzen verursachen und verschiedene Krankheiten auslösen. \nBei der Ausbildung lernst du alle 21 Aminosäuren mit den entsprechenden Frequenz-Codes kennen. Du bist nachher in der Lage\, bei Menschen\, Tieren und Pflanzen die Aminosäuren zu aktivieren. \nTotal 2 Tage jeweils von 10 -17 Uhr \n1 Tag: 14. Juni 2026 \n2 Tag: Der zweite Tag wird gemeinsam abgemacht!
URL:https://gluecksportal.ch/veranstaltungen/21-aminosaeuren-berater-3/
LOCATION:Ratalma\, Käppelistrasse 24\, Olten\, 4600\, Schweiz
CATEGORIES:21 Aminosäuren
ATTACH;FMTTYPE=image/jpeg:https://gluecksportal.ch/wp-content/uploads/2023/10/Angebot-Aktivierung-der-Aminosaeuren.jpg
ORGANIZER;CN="Marianne Anyalee Amsler":MAILTO:info@ratalma.ch
END:VEVENT
END:VCALENDAR