BEGIN:VCALENDAR
VERSION:2.0
PRODID:-//Glücksportal - ECPv6.15.20//NONSGML v1.0//EN
CALSCALE:GREGORIAN
METHOD:PUBLISH
X-ORIGINAL-URL:https://gluecksportal.ch
X-WR-CALDESC:Veranstaltungen für Glücksportal
REFRESH-INTERVAL;VALUE=DURATION:PT1H
X-Robots-Tag:noindex
X-PUBLISHED-TTL:PT1H
BEGIN:VTIMEZONE
TZID:Europe/Zurich
BEGIN:DAYLIGHT
TZOFFSETFROM:+0100
TZOFFSETTO:+0200
TZNAME:CEST
DTSTART:20250330T010000
END:DAYLIGHT
BEGIN:STANDARD
TZOFFSETFROM:+0200
TZOFFSETTO:+0100
TZNAME:CET
DTSTART:20251026T010000
END:STANDARD
BEGIN:DAYLIGHT
TZOFFSETFROM:+0100
TZOFFSETTO:+0200
TZNAME:CEST
DTSTART:20260329T010000
END:DAYLIGHT
BEGIN:STANDARD
TZOFFSETFROM:+0200
TZOFFSETTO:+0100
TZNAME:CET
DTSTART:20261025T010000
END:STANDARD
BEGIN:DAYLIGHT
TZOFFSETFROM:+0100
TZOFFSETTO:+0200
TZNAME:CEST
DTSTART:20270328T010000
END:DAYLIGHT
BEGIN:STANDARD
TZOFFSETFROM:+0200
TZOFFSETTO:+0100
TZNAME:CET
DTSTART:20271031T010000
END:STANDARD
END:VTIMEZONE
BEGIN:VEVENT
DTSTART;TZID=Europe/Zurich:20260524T090000
DTEND;TZID=Europe/Zurich:20260524T170000
DTSTAMP:20260424T183035
CREATED:20260112T223947Z
LAST-MODIFIED:20260112T223947Z
UID:5625-1779613200-1779642000@gluecksportal.ch
SUMMARY:Einweihung in deine 3 lemurianischen Kristalle
DESCRIPTION:Als Lemuria hier auf der Erde stattgefunden hat\, waren die Menschen noch verbunden mit allem was aus der Schöpfung entspringt. So war es auch selbstverständlich mit hochschwingenden\, kosmischen Frequenzen in und durch sie\, wirken zu können. Kristalle waren für sie sehr wichtige Informationsträger und Informationsleiter\, da sie selbst diese Träger von Kristallen waren. Kristallen\, die in ihren Chakren angelegt wurden. \nDa Lemuria hier auf der Erde stattgefunden hat\, sind auch diese wundervollen Kristalle auf unserer menschlichen DNA hinterlegt\, nur gingen sie in Vergessenheit\, weil sich die Menschen durch die Umstände der Entwicklungen auf der Erde immer mehr von ihrer Natur und mit allem verbunden zu sein\, entfernt haben. \nJetzt gibt es erstmals die gigantische Möglichkeit\, diese Kristalle wieder zu aktivieren und die hohen Frequenzen dieser Kristalle für das eigene Leben\, für andere Menschen\, wie für Tiere und Pflanzen\, grenzenlos zu nutzen. \nMit dieser Kraft trägst du das Erbe Lemurias wieder in dir und in deinen Zellen auf der DNA. \n\nDie Verankerung des roten lemurianischen Kristalls in das 3. Auge\nDie Verankerung des blauen lemurianischen Kristalls in den Handchakren\nDie Verankerung des schwarzen lemurianischen Kristalls in den Fusschakren\n\nDie 3 lemurianischen Kristalle strahlen durch dich\, ohne dass du sie aktivieren musst. \nInkl. Buch «Einweihung in die 3 Lemurianischen Kristalle»\, Lemuria Essenz und 3 physische Kristalle
URL:https://gluecksportal.ch/veranstaltungen/einweihung-in-deine-3-lemurianischen-kristalle-5/
LOCATION:Die Heilpraxis\, Hauptstrasse 72\, Escholzmatt\, LU\, 6183
CATEGORIES:3 lemurianischen Kristalle
ATTACH;FMTTYPE=image/jpeg:https://gluecksportal.ch/wp-content/uploads/2024/06/header_3_lemurianische_kristalle.jpg
ORGANIZER;CN="Marcel Vulkano Buchle":MAILTO:die-heilpraxis@gmx.ch
END:VEVENT
END:VCALENDAR