BEGIN:VCALENDAR
VERSION:2.0
PRODID:-//Glücksportal - ECPv6.15.20//NONSGML v1.0//EN
CALSCALE:GREGORIAN
METHOD:PUBLISH
X-ORIGINAL-URL:https://gluecksportal.ch
X-WR-CALDESC:Veranstaltungen für Glücksportal
REFRESH-INTERVAL;VALUE=DURATION:PT1H
X-Robots-Tag:noindex
X-PUBLISHED-TTL:PT1H
BEGIN:VTIMEZONE
TZID:Europe/Zurich
BEGIN:DAYLIGHT
TZOFFSETFROM:+0100
TZOFFSETTO:+0200
TZNAME:CEST
DTSTART:20250330T010000
END:DAYLIGHT
BEGIN:STANDARD
TZOFFSETFROM:+0200
TZOFFSETTO:+0100
TZNAME:CET
DTSTART:20251026T010000
END:STANDARD
BEGIN:DAYLIGHT
TZOFFSETFROM:+0100
TZOFFSETTO:+0200
TZNAME:CEST
DTSTART:20260329T010000
END:DAYLIGHT
BEGIN:STANDARD
TZOFFSETFROM:+0200
TZOFFSETTO:+0100
TZNAME:CET
DTSTART:20261025T010000
END:STANDARD
BEGIN:DAYLIGHT
TZOFFSETFROM:+0100
TZOFFSETTO:+0200
TZNAME:CEST
DTSTART:20270328T010000
END:DAYLIGHT
BEGIN:STANDARD
TZOFFSETFROM:+0200
TZOFFSETTO:+0100
TZNAME:CET
DTSTART:20271031T010000
END:STANDARD
END:VTIMEZONE
BEGIN:VEVENT
DTSTART;TZID=Europe/Zurich:20260314T090000
DTEND;TZID=Europe/Zurich:20260315T170000
DTSTAMP:20260424T183101
CREATED:20260112T223810Z
LAST-MODIFIED:20260112T223810Z
UID:5623-1773478800-1773594000@gluecksportal.ch
SUMMARY:Ausbildung zum Zeitlinien Berater 1. Modul 1-144
DESCRIPTION:Zeitlinien sind Energie-Tore und Bewusstseins-Linien\, in denen die Zellen wieder die Information der göttlichen Ordnung bekommen. Kranke oder auch veränderte\, verhärtete Zellen\, geben dem Körper oft Signale\, dass der Mensch etwas anderes Leben soll als das\, was er gerade lebt. Die Zeitlinien gehen direkt an dieses Signal und bringen die Informationen der göttlichen Ordnung wieder dorthin. Dadurch kann die Voraussetzung für eine nachhaltige\, körperliche und geistige Heilung geschaffen werden. Die Zeitlinien sind absolute göttliche Perfektion. \nDie Zeitlinien können auf den Körper\, auf alle Lebewesen\, Plätze und Situationen manifestiert werden und bleiben damit so lange in Verbindung\, wie es gebraucht wird. Veränderungen und Heilung geschehen jenseits der Zeit. \n\nZeitlinien sind Lichttore für die Zellen. Seele und Körper können sich wieder treffen.\nZeitlinien sind Transformationslinien. Die Dinge lösen sich auf allen Ebenen.\nZeitlinien bringen in die eigene Verantwortung. Jede Zelle wird mit den Zeitlinien gefüllt im Körper.\nDie Zeitlinien helfen uns\, unser göttliches Bewusstsein zu manifestieren und mit uns selbst in der Einheit und der Freude zu leben.\nZeitlinien bringen uns in die Ehrlichkeit mit allem. Die Zweifel gehen und lassen die Freude einfließen.\nZeitlinien öffnen den Raum\, um in das Vertrauen zu gehen\, öffnen den Augenblick und die Zukunft. Sie geben Kraft.
URL:https://gluecksportal.ch/veranstaltungen/ausbildung-zum-zeitlinien-berater-1-modul-1-144-3/
LOCATION:Die Heilpraxis\, Hauptstrasse 72\, Escholzmatt\, LU\, 6183
CATEGORIES:Zeitlinien
ATTACH;FMTTYPE=image/jpeg:https://gluecksportal.ch/wp-content/uploads/2023/10/Angebot-Zeitlinien-oeffnen.jpg
ORGANIZER;CN="Marcel Vulkano Buchle":MAILTO:die-heilpraxis@gmx.ch
END:VEVENT
END:VCALENDAR