BEGIN:VCALENDAR
VERSION:2.0
PRODID:-//Glücksportal - ECPv6.15.20//NONSGML v1.0//EN
CALSCALE:GREGORIAN
METHOD:PUBLISH
X-WR-CALNAME:Glücksportal
X-ORIGINAL-URL:https://gluecksportal.ch
X-WR-CALDESC:Veranstaltungen für Glücksportal
REFRESH-INTERVAL;VALUE=DURATION:PT1H
X-Robots-Tag:noindex
X-PUBLISHED-TTL:PT1H
BEGIN:VTIMEZONE
TZID:Europe/Zurich
BEGIN:DAYLIGHT
TZOFFSETFROM:+0100
TZOFFSETTO:+0200
TZNAME:CEST
DTSTART:20240331T010000
END:DAYLIGHT
BEGIN:STANDARD
TZOFFSETFROM:+0200
TZOFFSETTO:+0100
TZNAME:CET
DTSTART:20241027T010000
END:STANDARD
BEGIN:DAYLIGHT
TZOFFSETFROM:+0100
TZOFFSETTO:+0200
TZNAME:CEST
DTSTART:20250330T010000
END:DAYLIGHT
BEGIN:STANDARD
TZOFFSETFROM:+0200
TZOFFSETTO:+0100
TZNAME:CET
DTSTART:20251026T010000
END:STANDARD
BEGIN:DAYLIGHT
TZOFFSETFROM:+0100
TZOFFSETTO:+0200
TZNAME:CEST
DTSTART:20260329T010000
END:DAYLIGHT
BEGIN:STANDARD
TZOFFSETFROM:+0200
TZOFFSETTO:+0100
TZNAME:CET
DTSTART:20261025T010000
END:STANDARD
END:VTIMEZONE
BEGIN:VEVENT
DTSTART;TZID=Europe/Zurich:20251109T140000
DTEND;TZID=Europe/Zurich:20251109T180000
DTSTAMP:20260425T011709
CREATED:20250701T074044Z
LAST-MODIFIED:20250701T074044Z
UID:5476-1762696800-1762711200@gluecksportal.ch
SUMMARY:Begegnung mit der Scheibenfreiheit
DESCRIPTION:Immer mehr Menschen erkennen\, wie tiefgreifend die Manipulationen durch Politik\, Medien und Pharmaindustrie über lange Zeit waren und noch immer sind. Diese Manipulationen werden auf eine Scheibe im Körper gelegt\, und beeinflussen so dein Leben. \nDie Scheibenfreiheit ist eine sehr grosse Befreiung auf allen Ebenen. Die Scheibe wird vollständig gelöscht und dematerialisiert\, so dass keine Manipulationen von aussen mehr draufgelegt werden können. Mit der Scheibenfreiheit kannst du dein Leben mit dir selbst füllen\, mit deiner eigenen Lebendigkeit und Manifestation\, mit all dem\, was du erfahren möchtest. Es hilft dir aus deiner Vergangenheit auszusteigen und ins Jetzt zu kommen. Du kannst lernen wieder frei zu sein mit jedem Gedanken\, in jeder Zelle.
URL:https://gluecksportal.ch/veranstaltungen/begegnung-mit-der-scheibenfreiheit-3/
LOCATION:Ratalma\, Käppelistrasse 24\, Olten\, 4600\, Schweiz
CATEGORIES:Begegnung mit der Scheibenfreiheit
ATTACH;FMTTYPE=image/jpeg:https://gluecksportal.ch/wp-content/uploads/2024/06/header_begegnung_mit_der_scheibenfreiheit.jpg
ORGANIZER;CN="Marianne Anyalee Amsler":MAILTO:info@ratalma.ch
END:VEVENT
END:VCALENDAR