BEGIN:VCALENDAR
VERSION:2.0
PRODID:-//Glücksportal - ECPv6.15.20//NONSGML v1.0//EN
CALSCALE:GREGORIAN
METHOD:PUBLISH
X-WR-CALNAME:Glücksportal
X-ORIGINAL-URL:https://gluecksportal.ch
X-WR-CALDESC:Veranstaltungen für Glücksportal
REFRESH-INTERVAL;VALUE=DURATION:PT1H
X-Robots-Tag:noindex
X-PUBLISHED-TTL:PT1H
BEGIN:VTIMEZONE
TZID:Europe/Zurich
BEGIN:DAYLIGHT
TZOFFSETFROM:+0100
TZOFFSETTO:+0200
TZNAME:CEST
DTSTART:20240331T010000
END:DAYLIGHT
BEGIN:STANDARD
TZOFFSETFROM:+0200
TZOFFSETTO:+0100
TZNAME:CET
DTSTART:20241027T010000
END:STANDARD
BEGIN:DAYLIGHT
TZOFFSETFROM:+0100
TZOFFSETTO:+0200
TZNAME:CEST
DTSTART:20250330T010000
END:DAYLIGHT
BEGIN:STANDARD
TZOFFSETFROM:+0200
TZOFFSETTO:+0100
TZNAME:CET
DTSTART:20251026T010000
END:STANDARD
BEGIN:DAYLIGHT
TZOFFSETFROM:+0100
TZOFFSETTO:+0200
TZNAME:CEST
DTSTART:20260329T010000
END:DAYLIGHT
BEGIN:STANDARD
TZOFFSETFROM:+0200
TZOFFSETTO:+0100
TZNAME:CET
DTSTART:20261025T010000
END:STANDARD
END:VTIMEZONE
BEGIN:VEVENT
DTSTART;TZID=Europe/Zurich:20250920T100000
DTEND;TZID=Europe/Zurich:20250920T173000
DTSTAMP:20260425T044204
CREATED:20250613T135248Z
LAST-MODIFIED:20250613T135248Z
UID:5451-1758362400-1758389400@gluecksportal.ch
SUMMARY:Einweihung in die Goldene kristalline DNA
DESCRIPTION:Die Goldene Kristalline DNA (GKDNA) bietet dir die Möglichkeit\, ein ganz tiefes göttliches Potenzial mit allem zu erleben und zu feiern. Durch die Aktivierung deiner GKDNA in deiner Epiphyse\, entsteht ein tiefes wahrhaftiges Miteinander mit deinem Körper und deiner Seele. Die kraftvolle GKDNA legt sich über deine Herkunftsfamilien-DNA und es entsteht ein grosser Prozess der Verjüngung in dir. Du erlebst Dich viel freier und entdeckst ein Gefühl von Zeitlosigkeit. Tiefer Frieden und Visionen entstehen. \nWenn sich etwas Tiefsitzendes von den Herkunftsfamilien löst\, werden natürlich noch einige Prozesse in Gang kommen\, doch es wird viel leichter\, durch den Prozess zu gehen. \nAlles in deinem Körper hat eine göttliche Frequenz. In jedem Organ\, in jedem Muskel und in jeder Zelle ist die göttliche Information der Liebe gespeichert. Wenn du auf die Erde kommst\, bist du dir dessen noch bewusst. Durch sehr prägende Erfahrungen oder Erlebnisse kannst du dieses Bewusstsein einfach vergessen und du lebst dann ein Leben\, das nicht deinem Seelenbewusstsein entspricht. Diese Einweihung in die GKDNA bringt dich mit deinem Seelenbewusstsein wieder tief in Kontakt und Du beginnst eine tiefe Reise in Geborgenheit mit dir selbst und mit dem Planeten Erde. \nDie GKDNA ist ein göttliches Manifest\, das dir jetzt wieder geschenkt wird\, damit die Genialität deines wundervollen Lebens dich wieder erreicht. \nDiese Einweihung in die GKDNA bringt dich \n\n\n\nIn deine Seelenweite\nIn das All-Bewusstsein\n\n\n\n\nIn die Verbindung mit deinem wundervollen Körper\nIn die Seelenmanifestation deines Lebens\nIn die wundervolle DNA-Schwingung der Verjüngung\n\nEs werden drei Frequenz-Übertragungen über die Zirbeldrüse aktiviert\, um dadurch die goldene kristalline DNA mehr und mehr einfliessen zu lassen.\nDie Aktivierung der goldenen kristallinen DNA ist für Menschen\, Tiere\, Pflanzen\, Plätze\, Gebäude und für Situationen möglich
URL:https://gluecksportal.ch/veranstaltungen/einweihung-in-die-goldene-kristalline-dna/
LOCATION:Manuya – Zentrum der inneren Wirklichkeit\, Via principala 34\, Surcasti\, 7115
CATEGORIES:Goldene kristalline DNA
ATTACH;FMTTYPE=image/jpeg:https://gluecksportal.ch/wp-content/uploads/2023/10/Angebot-Einweihung-in-die-Goldene-Kristalline-DNA.jpg
ORGANIZER;CN="Sonja Varana Vinzens":MAILTO:sonjavarana@gmx.ch
END:VEVENT
BEGIN:VEVENT
DTSTART;TZID=Europe/Zurich:20250920T183000
DTEND;TZID=Europe/Zurich:20250920T193000
DTSTAMP:20260425T044204
CREATED:20250918T184736Z
LAST-MODIFIED:20250918T184917Z
UID:5532-1758393000-1758396600@gluecksportal.ch
SUMMARY:Impfungen ausleiten
DESCRIPTION:Impfungen tragen Inhaltsstoffe in sich\, die viele Arten von Nebenwirkungen haben können. Manchmal treten die Nebenwirkungen erst viele Jahre später auf. Zum Beispiel der Zusatzstoff Quecksilber beeinträchtigt die Nerven\, und kann zu Autismus und allgemein zu einer Schwächung des Gehirns führen. \nEs besteht jedoch die geniale Möglichkeit\, die schädlichen Wirkungen der Impfstoffe auszuleiten. Dies betrifft die Impfstoffe aus der Kindheit\, Reiseimpfungen\, Grippeimpfungen\, Covid-Impfungen und mehr. Impfausleitung auch für Tiere möglich.
URL:https://gluecksportal.ch/veranstaltungen/impfungen-ausleiten-2/
LOCATION:Christine Jamanka Koller\, Aumattstrasse 64\, Reinach\, 4153\, Switzerland
CATEGORIES:Impfungen ausleiten
ATTACH;FMTTYPE=image/jpeg:https://gluecksportal.ch/wp-content/uploads/2024/06/header_impfungen_ausleiten.jpg
ORGANIZER;CN="Christine Jamanka Koller":MAILTO:ckojahr2017@gmail.com
END:VEVENT
END:VCALENDAR